BEGIN:VCALENDAR
VERSION:2.0
PRODID:-//wp-events-plugin.com//5.99912//EN
TZID:Europe/Berlin
X-WR-TIMEZONE:Europe/Berlin
BEGIN:VEVENT
UID:0-268@schnaitheim.albverein.eu
DTSTART;TZID=Europe/Berlin:20261124T143000
DTEND;TZID=Europe/Berlin:20261124T143000
DTSTAMP:20260128T102230Z
URL:https://schnaitheim.albverein.eu/events/adventliches-basteln-2/
SUMMARY:Adventliches Basteln
DESCRIPTION:
LOCATION:Am Jagdschlössle\, Am Jagdschlößle 10\, Schnaitheim\, Deutschla
 nd
GEO:48.707071;10.159565
X-APPLE-STRUCTURED-LOCATION;VALUE=URI;X-ADDRESS=Am Jagdschlößle 10\, Schn
 aitheim\, Deutschland;X-APPLE-RADIUS=100;X-TITLE=Am Jagdschlössle:geo:48.
 707071,10.159565
END:VEVENT
BEGIN:VTIMEZONE
TZID:Europe/Berlin
X-LIC-LOCATION:Europe/Berlin
BEGIN:STANDARD
DTSTART:20261025T020000
TZOFFSETFROM:+0200
TZOFFSETTO:+0100
TZNAME:CET
END:STANDARD
END:VTIMEZONE
END:VCALENDAR