BEGIN:VCALENDAR
VERSION:2.0
PRODID:-//wp-events-plugin.com//5.99912//EN
TZID:Europe/Berlin
X-WR-TIMEZONE:Europe/Berlin
BEGIN:VEVENT
UID:0-260@schnaitheim.albverein.eu
DTSTART;TZID=Europe/Berlin:20260628T103000
DTEND;TZID=Europe/Berlin:20260628T103000
DTSTAMP:20260128T093830Z
URL:https://schnaitheim.albverein.eu/events/ausflug-zu-den-weiherwiesen/
SUMMARY:Ausflug zu den Weiherwiesen
DESCRIPTION:Manfred Köpf
LOCATION:Turn- und Festhalle Schnaitheim\, Fischerweg\, Heidenheim-Schnaith
 eim\, 89520\, Deutschland
GEO:48.70818329999999;10.160490999999979
X-APPLE-STRUCTURED-LOCATION;VALUE=URI;X-ADDRESS=Fischerweg\, Heidenheim-Sch
 naitheim\, 89520\, Deutschland;X-APPLE-RADIUS=100;X-TITLE=Turn- und Festha
 lle Schnaitheim:geo:48.70818329999999,10.160490999999979
END:VEVENT
BEGIN:VTIMEZONE
TZID:Europe/Berlin
X-LIC-LOCATION:Europe/Berlin
BEGIN:DAYLIGHT
DTSTART:20260329T030000
TZOFFSETFROM:+0100
TZOFFSETTO:+0200
TZNAME:CEST
END:DAYLIGHT
END:VTIMEZONE
END:VCALENDAR