BEGIN:VCALENDAR
VERSION:2.0
PRODID:-//wp-events-plugin.com//5.99912//EN
TZID:Europe/Berlin
X-WR-TIMEZONE:Europe/Berlin
BEGIN:VEVENT
UID:0-263@schnaitheim.albverein.eu
DTSTART;TZID=Europe/Berlin:20260908T143000
DTEND;TZID=Europe/Berlin:20260908T143000
DTSTAMP:20260128T101721Z
URL:https://schnaitheim.albverein.eu/events/filmvortrag-lueneburger-heide/
SUMMARY:Filmvortrag: Lüneburger Heide
DESCRIPTION:Beylschmidt
LOCATION:Am Jagdschlössle\, Am Jagdschlößle 10\, Schnaitheim\, Deutschla
 nd
GEO:48.707071;10.159565
X-APPLE-STRUCTURED-LOCATION;VALUE=URI;X-ADDRESS=Am Jagdschlößle 10\, Schn
 aitheim\, Deutschland;X-APPLE-RADIUS=100;X-TITLE=Am Jagdschlössle:geo:48.
 707071,10.159565
END:VEVENT
BEGIN:VTIMEZONE
TZID:Europe/Berlin
X-LIC-LOCATION:Europe/Berlin
BEGIN:DAYLIGHT
DTSTART:20260329T030000
TZOFFSETFROM:+0100
TZOFFSETTO:+0200
TZNAME:CEST
END:DAYLIGHT
END:VTIMEZONE
END:VCALENDAR