BEGIN:VCALENDAR
VERSION:2.0
PRODID:-//wp-events-plugin.com//5.99912//EN
TZID:Europe/Berlin
X-WR-TIMEZONE:Europe/Berlin
BEGIN:VEVENT
UID:0-256@schnaitheim.albverein.eu
DTSTART;TZID=Europe/Berlin:20260512T133000
DTEND;TZID=Europe/Berlin:20260512T133000
DTSTAMP:20260128T092148Z
URL:https://schnaitheim.albverein.eu/events/fuehrung-in-der-michaelskirche
 /
SUMMARY:Führung in der Michaelskirche
DESCRIPTION:Hansjörg Jakob + Team
LOCATION:Michaelskirche\, An der Stadtmauer 1\, Heidenheim\, Deutschland
GEO:48.677678;10.151325
X-APPLE-STRUCTURED-LOCATION;VALUE=URI;X-ADDRESS=An der Stadtmauer 1\, Heide
 nheim\, Deutschland;X-APPLE-RADIUS=100;X-TITLE=Michaelskirche:geo:48.67767
 8,10.151325
END:VEVENT
BEGIN:VTIMEZONE
TZID:Europe/Berlin
X-LIC-LOCATION:Europe/Berlin
BEGIN:DAYLIGHT
DTSTART:20260329T030000
TZOFFSETFROM:+0100
TZOFFSETTO:+0200
TZNAME:CEST
END:DAYLIGHT
END:VTIMEZONE
END:VCALENDAR