BEGIN:VCALENDAR
VERSION:2.0
PRODID:-//wp-events-plugin.com//5.99912//EN
TZID:Europe/Berlin
X-WR-TIMEZONE:Europe/Berlin
BEGIN:VEVENT
UID:0-261@schnaitheim.albverein.eu
DTSTART;TZID=Europe/Berlin:20260714T143000
DTEND;TZID=Europe/Berlin:20260714T143000
DTSTAMP:20260128T101436Z
URL:https://schnaitheim.albverein.eu/events/sommerfest-in-renates-garten-2
 /
SUMMARY:Sommerfest in Renates Garten
DESCRIPTION:Täsch
LOCATION:In der Täsch\, In der Täsch\, Heidenheim\, 89520\, Deutschland
GEO:49.3517315;8.701346999999942
X-APPLE-STRUCTURED-LOCATION;VALUE=URI;X-ADDRESS=In der Täsch\, Heidenheim\
 , 89520\, Deutschland;X-APPLE-RADIUS=100;X-TITLE=In der Täsch:geo:49.3517
 315,8.701346999999942
END:VEVENT
BEGIN:VTIMEZONE
TZID:Europe/Berlin
X-LIC-LOCATION:Europe/Berlin
BEGIN:DAYLIGHT
DTSTART:20260329T030000
TZOFFSETFROM:+0100
TZOFFSETTO:+0200
TZNAME:CEST
END:DAYLIGHT
END:VTIMEZONE
END:VCALENDAR