BEGIN:VCALENDAR
VERSION:2.0
PRODID:-//wp-events-plugin.com//5.99912//EN
TZID:Europe/Berlin
X-WR-TIMEZONE:Europe/Berlin
BEGIN:VEVENT
UID:0-267@schnaitheim.albverein.eu
DTSTART;TZID=Europe/Berlin:20261111T133000
DTEND;TZID=Europe/Berlin:20261111T133000
DTSTAMP:20260128T102145Z
URL:https://schnaitheim.albverein.eu/events/wanderung-nach-rotensohl-2/
SUMMARY:Wanderung nach Rotensohl
DESCRIPTION:
LOCATION:Michaelskirche\, An der Stadtmauer 1\, Heidenheim\, Deutschland
GEO:48.677678;10.151325
X-APPLE-STRUCTURED-LOCATION;VALUE=URI;X-ADDRESS=An der Stadtmauer 1\, Heide
 nheim\, Deutschland;X-APPLE-RADIUS=100;X-TITLE=Michaelskirche:geo:48.67767
 8,10.151325
END:VEVENT
BEGIN:VTIMEZONE
TZID:Europe/Berlin
X-LIC-LOCATION:Europe/Berlin
BEGIN:STANDARD
DTSTART:20261025T020000
TZOFFSETFROM:+0200
TZOFFSETTO:+0100
TZNAME:CET
END:STANDARD
END:VTIMEZONE
END:VCALENDAR